BEGIN:VCALENDAR
VERSION:2.0
PRODID:-//KFIZ News-Talk 1450 AM - ECPv6.15.20//NONSGML v1.0//EN
CALSCALE:GREGORIAN
METHOD:PUBLISH
X-ORIGINAL-URL:https://kfiz.com
X-WR-CALDESC:Events for KFIZ News-Talk 1450 AM
REFRESH-INTERVAL;VALUE=DURATION:PT1H
X-Robots-Tag:noindex
X-PUBLISHED-TTL:PT1H
BEGIN:VTIMEZONE
TZID:America/Chicago
BEGIN:DAYLIGHT
TZOFFSETFROM:-0600
TZOFFSETTO:-0500
TZNAME:CDT
DTSTART:20250309T080000
END:DAYLIGHT
BEGIN:STANDARD
TZOFFSETFROM:-0500
TZOFFSETTO:-0600
TZNAME:CST
DTSTART:20251102T070000
END:STANDARD
BEGIN:DAYLIGHT
TZOFFSETFROM:-0600
TZOFFSETTO:-0500
TZNAME:CDT
DTSTART:20260308T080000
END:DAYLIGHT
BEGIN:STANDARD
TZOFFSETFROM:-0500
TZOFFSETTO:-0600
TZNAME:CST
DTSTART:20261101T070000
END:STANDARD
BEGIN:DAYLIGHT
TZOFFSETFROM:-0600
TZOFFSETTO:-0500
TZNAME:CDT
DTSTART:20270314T080000
END:DAYLIGHT
BEGIN:STANDARD
TZOFFSETFROM:-0500
TZOFFSETTO:-0600
TZNAME:CST
DTSTART:20271107T070000
END:STANDARD
END:VTIMEZONE
BEGIN:VEVENT
DTSTART;TZID=America/Chicago:20260731T120000
DTEND;TZID=America/Chicago:20260731T180000
DTSTAMP:20260425T074031
CREATED:20260409T111647Z
LAST-MODIFIED:20260409T111647Z
UID:138443-1785499200-1785520800@kfiz.com
SUMMARY:Fond du Lac Noon Kiwanis Golf Outing
DESCRIPTION:Name of Event\n 	Fond du Lac Noon Kiwanis Golf Outing \nEvent Date\n 	07/31/2026 \nEvent Start Time\n 	12:00 pm \nEvent End Time\n 	06:00 pm \nLocation\n 	Rolling Meadows Golf Course\, FDL \nEvent Cost\n 	$90.00 \nOrganization/Business Name\n 	Fond du Lac Noon Kiwanis \nEvent Description\n 	The Fond du Lac Noon Kiwanis annual open charity Scott Wittchow Golf Outing! All proceeds to help children in our community. Have a great time with friends\, see old friends\, get lots of hole prizes\, big raffles\, and door prizes! Register for golf and dinner\, or just dinner only.
URL:https://kfiz.com/event/fond-du-lac-noon-kiwanis-golf-outing/
LOCATION:Rolling Meadows Golf Course\, 560 W Rolling Meadows Dr\, Fond du Lac\, WI\, 54935\, United States
END:VEVENT
BEGIN:VEVENT
DTSTART;TZID=America/Chicago:20261014T173000
DTEND;TZID=America/Chicago:20261014T203000
DTSTAMP:20260425T074031
CREATED:20260329T170318Z
LAST-MODIFIED:20260329T170318Z
UID:138229-1791999000-1792009800@kfiz.com
SUMMARY:Hard Hats & Heels Gala
DESCRIPTION:Name of Event\n 	Hard Hats & Heels Gala \nEvent Date\n 	10/14/2026 \nEvent Start Time\n 	05:30 pm \nEvent End Time\n 	08:30 pm \nLocation\n 	Radisson Hotel & Conference Center\, FDL \nEvent Cost\n 	$75.00 \nOrganization/Business Name\n 	Habitat for Humanity of Fond du Lac County \nEvent Description\n 	Habitat for Humanity of Fond du Lac County will be celebrating our successful 2026 house build with an evening of festivities including a live and silent auction\, cork pull\, bourbon raffle\, and 50/50 raffle. We will announce our building partners\, and celebrate our volunteer of the year and partner family. Tickets are $75 each or a table of 8 for $600. Sponsorships are available .
URL:https://kfiz.com/event/hard-hats-heels-gala/
LOCATION:Radison Hotel and Conference Center\, 625 Rolling Meadows Dr.\, Fond du Lac\, WI\, United States
END:VEVENT
END:VCALENDAR